BEGIN:VCALENDAR
VERSION:2.0
PRODID:-//Yoonie Han - ECPv5.6.0//NONSGML v1.0//EN
CALSCALE:GREGORIAN
METHOD:PUBLISH
X-WR-CALNAME:Yoonie Han
X-ORIGINAL-URL:https://www.yooniehan.com
X-WR-CALDESC:Events for Yoonie Han
BEGIN:VTIMEZONE
TZID:UTC
BEGIN:STANDARD
TZOFFSETFROM:+0000
TZOFFSETTO:+0000
TZNAME:UTC
DTSTART:20200101T000000
END:STANDARD
END:VTIMEZONE
BEGIN:VEVENT
DTSTART;TZID=UTC:20200225T030000
DTEND;TZID=UTC:20200225T170000
DTSTAMP:20260421T133423
CREATED:20200113T192725Z
LAST-MODIFIED:20200113T192725Z
UID:1813-1582599600-1582650000@www.yooniehan.com
SUMMARY:Private Recital\, San Francisco\, CA
DESCRIPTION:Invitations Only
URL:https://www.yooniehan.com/event/private-recital-san-francisco-ca-2/
END:VEVENT
BEGIN:VEVENT
DTSTART;TZID=UTC:20200225T123000
DTEND;TZID=UTC:20200225T133000
DTSTAMP:20260421T133423
CREATED:20191127T152518Z
LAST-MODIFIED:20191127T152518Z
UID:1789-1582633800-1582637400@www.yooniehan.com
SUMMARY:Noontime Concerts\, San Francisco\, CA
DESCRIPTION:Solo Recital
URL:https://www.yooniehan.com/event/noontime-concerts-san-francisco-ca/
END:VEVENT
END:VCALENDAR