BEGIN:VCALENDAR
VERSION:2.0
PRODID:-//Yoonie Han - ECPv5.6.0//NONSGML v1.0//EN
CALSCALE:GREGORIAN
METHOD:PUBLISH
X-WR-CALNAME:Yoonie Han
X-ORIGINAL-URL:https://www.yooniehan.com
X-WR-CALDESC:Events for Yoonie Han
BEGIN:VTIMEZONE
TZID:UTC
BEGIN:STANDARD
TZOFFSETFROM:+0000
TZOFFSETTO:+0000
TZNAME:UTC
DTSTART:20200101T000000
END:STANDARD
END:VTIMEZONE
BEGIN:VEVENT
DTSTART;TZID=UTC:20200224T170000
DTEND;TZID=UTC:20200224T180000
DTSTAMP:20260421T155112
CREATED:20200113T190333Z
LAST-MODIFIED:20200113T190856Z
UID:1799-1582563600-1582567200@www.yooniehan.com
SUMMARY:Private Recital\, Oakland\, CA
DESCRIPTION:Invitations Only
URL:https://www.yooniehan.com/event/private-concert-san-francisco-ca/
END:VEVENT
BEGIN:VEVENT
DTSTART;TZID=UTC:20200224T190000
DTEND;TZID=UTC:20200224T200000
DTSTAMP:20260421T155112
CREATED:20191127T152617Z
LAST-MODIFIED:20200113T190935Z
UID:1791-1582570800-1582574400@www.yooniehan.com
SUMMARY:Private Recital\, San Francisco\, CA
DESCRIPTION:Invitations Only
URL:https://www.yooniehan.com/event/private-recital-san-francisco-ca/
END:VEVENT
END:VCALENDAR