BEGIN:VCALENDAR
VERSION:2.0
PRODID:-//Yoonie Han - ECPv5.6.0//NONSGML v1.0//EN
CALSCALE:GREGORIAN
METHOD:PUBLISH
X-WR-CALNAME:Yoonie Han
X-ORIGINAL-URL:https://www.yooniehan.com
X-WR-CALDESC:Events for Yoonie Han
BEGIN:VTIMEZONE
TZID:UTC
BEGIN:STANDARD
TZOFFSETFROM:+0000
TZOFFSETTO:+0000
TZNAME:UTC
DTSTART:20200101T000000
END:STANDARD
END:VTIMEZONE
BEGIN:VEVENT
DTSTART;TZID=UTC:20200223T190000
DTEND;TZID=UTC:20200223T203000
DTSTAMP:20260421T174659
CREATED:20200226T154859Z
LAST-MODIFIED:20210512T142612Z
UID:1893-1582484400-1582489800@www.yooniehan.com
SUMMARY:St. Paul Catholic Church\, Akron\, Ohio
DESCRIPTION:Chamber Music Concert
URL:https://www.yooniehan.com/event/trinity-episcopal-cathedral-cleveland-oh-2/
END:VEVENT
BEGIN:VEVENT
DTSTART;TZID=UTC:20200223T193000
DTEND;TZID=UTC:20200223T213000
DTSTAMP:20260421T174659
CREATED:20190904T183443Z
LAST-MODIFIED:20210512T142625Z
UID:1768-1582486200-1582493400@www.yooniehan.com
SUMMARY:Kent State University\, Ohio
DESCRIPTION:Solo Recital
URL:https://www.yooniehan.com/event/kent-state-university/
END:VEVENT
END:VCALENDAR